BEGIN:VCALENDAR
VERSION:2.0
PRODID:-//Plone.org//NONSGML plone.app.event//EN
X-WR-TIMEZONE:Europe/Amsterdam
BEGIN:VEVENT
SUMMARY:Expertclass:  FSE - Next Generation 2026
DTSTART;TZID=Europe/Amsterdam:20260507T133000
DTEND;TZID=Europe/Amsterdam:20260507T173000
DTSTAMP:20260423T145634Z
UID:665dfb20eff1489abc680156c1221628@127.0.0.1:8080
CREATED:20250220T161330Z
DESCRIPTION:Expertclass with nominations of the NIPV-VVBA Thesis Contest f
 or the best bachelor or master thesis on fire safety of fire engineering.
LAST-MODIFIED:20260323T235010Z
LOCATION:Campus TU Eindhoven - Zwarte Doos - Filmzaal (cinema)
URL:https://www.fellowfse.nl/events/expertclass-fse-next-generation-2025
END:VEVENT
BEGIN:VTIMEZONE
TZID:Europe/Amsterdam
X-LIC-LOCATION:Europe/Amsterdam
BEGIN:DAYLIGHT
DTSTART:20260329T030000
TZNAME:CEST
TZOFFSETFROM:+0100
TZOFFSETTO:+0200
END:DAYLIGHT
END:VTIMEZONE
END:VCALENDAR
